BEGIN:VCALENDAR
VERSION:2.0
CALSCALE:GREGORIAN
PRODID:adamgibbons/ics
METHOD:PUBLISH
X-PUBLISHED-TTL:PT1H
BEGIN:VEVENT
UID:19149@offbeat.amsterdam
SUMMARY:Raising Radicals
DTSTAMP:20260421T053838Z
DTSTART:20260503T120000Z
DTEND:20260503T140000Z
URL:https://offbeat.amsterdam/event/raising-radicals-6
GEO:52.35556625;4.9249982
LOCATION:Joe's Garage - Pretoriusstraat 43\, 1092 EZ Amsterdam
STATUS:CONFIRMED
CATEGORIES:amsterdam-oost,children's activity,transvaalbuurt
END:VEVENT
END:VCALENDAR
